BEGIN:VCALENDAR
VERSION:2.0
PRODID:-//swoogo.com//NONSGML kigkonsult.se iCalcreator 2.41.90//
CALSCALE:GREGORIAN
UID:35616263-3261-4962-b030-613333616261
BEGIN:VEVENT
UID:720677af58de4229d73cada0b3c5eb028b2b7b00@swoogo.com
DTSTAMP:20260420T143002Z
DESCRIPTION:The exclusive Engage & Connect Series will bring together gover
 nment and industry three times during the program year to hear keynote rem
 arks from an agency leader on the topic of cybersecurity\, modernization o
 r data analytics\, followed by a cocktail networking reception.
DTSTART:20211214T210000Z
DTEND:20211215T000000Z
LAST-MODIFIED:20260420T143002Z
LOCATION:Grand Hyatt Washington\, 1000 H St NW\, Washington\, DC 20001\, Un
 ited States
SEQUENCE:0
STATUS:CONFIRMED
SUMMARY:AFCEA Bethesda Engage & Connect
TRANSP:OPAQUE
X-ALT-DESC;FMTTYPE=text/html:<div><span style='font-size:12pt\;'><span styl
 e='font-family:Calibri\, sans-serif\;'><span style='color:#000000\;'>The e
 xclusive Engage & Connect Series will bring together government and indust
 ry three times during the program year to hear keynote remarks from an age
 ncy leader on the topic of cybersecurity\, modernization or data analytics
 \, followed by a cocktail networking reception. </span></span></span></div
 >
BEGIN:VALARM
UID:32313162-3133-4363-b536-303865626438
ACTION:DISPLAY
DESCRIPTION:The exclusive Engage & Connect Series will bring together gover
 nment and industry three times during the program year to hear keynote rem
 arks from an agency leader on the topic of cybersecurity\, modernization o
 r data analytics\, followed by a cocktail networking reception.
TRIGGER:-PT15M
END:VALARM
END:VEVENT
END:VCALENDAR
