BEGIN:VCALENDAR
VERSION:2.0
PRODID:-//swoogo.com//NONSGML kigkonsult.se iCalcreator 2.41.90//
CALSCALE:GREGORIAN
UID:64316366-6136-4334-b936-333334336533
BEGIN:VEVENT
UID:457f69cd731004faf99470b199e9e80cbe95c7bc@swoogo.com
DTSTAMP:20260420T012941Z
DESCRIPTION:
DTSTART:20260603T213000Z
DTEND:20260603T233000Z
LAST-MODIFIED:20260420T012941Z
LOCATION:Royal Sands\, 26 N St SE\, Washington\, DC 20003\, United States
SEQUENCE:0
STATUS:CONFIRMED
SUMMARY:2026 LEAPS VIP Reception
TRANSP:OPAQUE
X-ALT-DESC:
BEGIN:VALARM
UID:34633138-3461-4638-b038-313238303961
ACTION:DISPLAY
DESCRIPTION:
TRIGGER:-P1D
END:VALARM
END:VEVENT
END:VCALENDAR
