BEGIN:VCALENDAR
VERSION:2.0
PRODID:-//swoogo.com//NONSGML kigkonsult.se iCalcreator 2.41.90//
CALSCALE:GREGORIAN
UID:62383938-6265-4664-b766-663337333937
BEGIN:VEVENT
UID:a38af904bf98a968ae3f8bead768af70675ae4b3@swoogo.com
DTSTAMP:20260423T171630Z
DESCRIPTION:MODERNIZATION UNDER PRESSURE: LESSONS FROM 2025 AND WHAT'S NEXT
  ACROSS FEDERAL HEALTH IT\n\nThe pace of federal health IT modernization c
 ontinues to accelerate — but so do the pressures to innovate securely\, co
 st-effectively\, and in alignment with mission outcomes. As agencies acros
 s the federal health ecosystem look ahead to 2026\, leaders are taking sto
 ck of what worked in 2025\, what didn’t\, and where they need new ideas an
 d partnerships to move forward.\n\nThis year’s Health IT Preview will feat
 ure a candid\, industry-day-style discussion where leaders from across the
  federal health ecosystem share real modernization outcomes from the past 
 year\, highlight key challenges\, and preview upcoming priorities\, acquis
 ition strategies\, and collaboration opportunities for 2026.\n\nAttendees 
 will walk away with actionable intelligence—not generic talking points—on 
 the initiatives shaping the next wave of health IT modernization\, from AI
  and data governance to cybersecurity\, cloud consolidation\, and workforc
 e readiness.\n\nKey Discussion Areas:\n\n 	* 2025 lessons learned and how t
 hey shape 2026 initiatives\n 	* Where agencies need help: upcoming acquisit
 ion and technology focus areas\n 	* Consolidation and shared service strate
 gies\n 	* Data and model governance in the era of AI
DTSTART:20260122T193000Z
DTEND:20260122T233000Z
LAST-MODIFIED:20260423T171630Z
LOCATION:MGM National Harbor\, 101 MGM National Ave\, Oxon Hill\, MD 20745\
 , United States
SEQUENCE:0
STATUS:CONFIRMED
SUMMARY:2026 Health IT Preview
TRANSP:OPAQUE
X-ALT-DESC;FMTTYPE=text/html:<p><strong>Modernization Under Pressure: Lesso
 ns from 2025 and What's Next Across Federal Health IT</strong></p>\n\n<p>T
 he pace of federal health IT modernization continues to accelerate — but s
 o do the pressures to innovate securely\, cost-effectively\, and in alignm
 ent with mission outcomes. As agencies across the federal health ecosystem
  look ahead to 2026\, leaders are taking stock of what worked in 2025\, wh
 at didn’t\, and where they need new ideas and partnerships to move forward
 .</p>\n\n<p>This year’s Health IT Preview will feature a candid\, industry
 -day-style discussion where leaders from across the federal health ecosyst
 em share real modernization outcomes from the past year\, highlight key ch
 allenges\, and preview upcoming priorities\, acquisition strategies\, and 
 collaboration opportunities for 2026.</p>\n\n<p>Attendees will walk away w
 ith actionable intelligence—not generic talking points—on the initiatives 
 shaping the next wave of health IT modernization\, from AI and data govern
 ance to cybersecurity\, cloud consolidation\, and workforce readiness.</p>
 \n\n<p>Key Discussion Areas:</p>\n\n<ul>\n	<li>2025 lessons learned and how
  they shape 2026 initiatives</li>\n	<li>Where agencies need help: upcoming 
 acquisition and technology focus areas</li>\n	<li>Consolidation and shared 
 service strategies</li>\n	<li>Data and model governance in the era of AI</l
 i>\n</ul>
BEGIN:VALARM
UID:37366233-3234-4435-b261-343932303039
ACTION:DISPLAY
DESCRIPTION:MODERNIZATION UNDER PRESSURE: LESSONS FROM 2025 AND WHAT'S NEXT
  ACROSS FEDERAL HEALTH IT\n\nThe pace of federal health IT modernization c
 ontinues to accelerate — but so do the pressures to innovate securely\, co
 st-effectively\, and in alignment with mission outcomes. As agencies acros
 s the federal health ecosystem look ahead to 2026\, leaders are taking sto
 ck of what worked in 2025\, what didn’t\, and where they need new ideas an
 d partnerships to move forward.\n\nThis year’s Health IT Preview will feat
 ure a candid\, industry-day-style discussion where leaders from across the
  federal health ecosystem share real modernization outcomes from the past 
 year\, highlight key challenges\, and preview upcoming priorities\, acquis
 ition strategies\, and collaboration opportunities for 2026.\n\nAttendees 
 will walk away with actionable intelligence—not generic talking points—on 
 the initiatives shaping the next wave of health IT modernization\, from AI
  and data governance to cybersecurity\, cloud consolidation\, and workforc
 e readiness.\n\nKey Discussion Areas:\n\n 	* 2025 lessons learned and how t
 hey shape 2026 initiatives\n 	* Where agencies need help: upcoming acquisit
 ion and technology focus areas\n 	* Consolidation and shared service strate
 gies\n 	* Data and model governance in the era of AI
TRIGGER:-P1D
END:VALARM
END:VEVENT
END:VCALENDAR
